Package: bgx Version: 1.70.0 Command: /Library/Frameworks/R.framework/Resources/bin/R CMD build --keep-empty-dirs --no-resave-data bgx StartedAt: 2024-10-16 20:08:13 -0400 (Wed, 16 Oct 2024) EndedAt: 2024-10-16 20:09:07 -0400 (Wed, 16 Oct 2024) EllapsedTime: 54.8 seconds RetCode: 0 Status: OK PackageFile: bgx_1.70.0.tar.gz PackageFileSize: 2.62 MiB