Package: bgx Version: 1.70.0 Command: /Library/Frameworks/R.framework/Resources/bin/R CMD check --install=check:bgx.install-out.txt --library=/Library/Frameworks/R.framework/Resources/library --no-vignettes --timings bgx_1.70.0.tar.gz StartedAt: 2024-10-17 13:41:49 -0400 (Thu, 17 Oct 2024) EndedAt: 2024-10-17 13:43:46 -0400 (Thu, 17 Oct 2024) EllapsedTime: 116.3 seconds RetCode: 0 Status: OK CheckDir: bgx.Rcheck Warnings: 0