Package: bgx Version: 1.70.0 Command: /Library/Frameworks/R.framework/Resources/bin/R CMD INSTALL bgx StartedAt: 2024-10-16 15:56:04 -0400 (Wed, 16 Oct 2024) EndedAt: 2024-10-16 15:56:38 -0400 (Wed, 16 Oct 2024) EllapsedTime: 34.4 seconds RetCode: 0 Status: OK