Package: bgx Version: 1.70.0 Command: /home/biocbuild/R/R-beta-2024-04-15_r86425/bin/R CMD build --keep-empty-dirs --no-resave-data bgx StartedAt: 2024-05-08 22:39:08 -0000 (Wed, 08 May 2024) EndedAt: 2024-05-08 22:40:24 -0000 (Wed, 08 May 2024) EllapsedTime: 75.1 seconds RetCode: 0 Status: OK PackageFile: bgx_1.70.0.tar.gz PackageFileSize: 2.614 MiB