Package: bgx Version: 1.70.0 Command: /home/biocbuild/R/R-beta-2024-04-15_r86425/bin/R CMD INSTALL bgx StartedAt: 2024-05-08 20:13:24 -0000 (Wed, 08 May 2024) EndedAt: 2024-05-08 20:14:19 -0000 (Wed, 08 May 2024) EllapsedTime: 54.6 seconds RetCode: 0 Status: OK