Package: bgx Version: 1.70.0 Command: /Library/Frameworks/R.framework/Resources/bin/R CMD check --install=check:bgx.install-out.txt --library=/Library/Frameworks/R.framework/Resources/library --no-vignettes --timings bgx_1.70.0.tar.gz StartedAt: 2024-06-09 18:55:56 -0400 (Sun, 09 Jun 2024) EndedAt: 2024-06-09 18:57:39 -0400 (Sun, 09 Jun 2024) EllapsedTime: 103.8 seconds RetCode: 0 Status: WARNINGS CheckDir: bgx.Rcheck Warnings: 1