Package: bgx Version: 1.70.0 Command: /Library/Frameworks/R.framework/Resources/bin/R CMD check --install=check:bgx.install-out.txt --library=/Library/Frameworks/R.framework/Resources/library --no-vignettes --timings bgx_1.70.0.tar.gz StartedAt: 2024-10-17 01:36:38 -0400 (Thu, 17 Oct 2024) EndedAt: 2024-10-17 01:40:24 -0400 (Thu, 17 Oct 2024) EllapsedTime: 225.8 seconds RetCode: 0 Status: WARNINGS CheckDir: bgx.Rcheck Warnings: 1