Package: bgx Version: 1.70.0 Command: /home/biocbuild/bbs-3.19-bioc/R/bin/R CMD build --keep-empty-dirs --no-resave-data bgx StartedAt: 2024-10-16 17:09:16 -0400 (Wed, 16 Oct 2024) EndedAt: 2024-10-16 17:10:01 -0400 (Wed, 16 Oct 2024) EllapsedTime: 45.1 seconds RetCode: 0 Status: OK PackageFile: bgx_1.70.0.tar.gz PackageFileSize: 2.46 MiB