Package: bgx Version: 1.70.0 Command: chmod a+r bgx -R && F:\biocbuild\bbs-3.19-bioc\R\bin\R.exe CMD build --keep-empty-dirs --no-resave-data bgx StartedAt: 2024-06-26 17:19:02 -0400 (Wed, 26 Jun 2024) EndedAt: 2024-06-26 17:23:24 -0400 (Wed, 26 Jun 2024) EllapsedTime: 261.9 seconds RetCode: 0 Status: OK PackageFile: bgx_1.70.0.tar.gz PackageFileSize: 4.83 MiB