Package: bgx Version: 1.70.0 Command: F:\biocbuild\bbs-3.19-bioc\R\bin\R.exe CMD INSTALL bgx StartedAt: 2024-06-26 15:51:29 -0400 (Wed, 26 Jun 2024) EndedAt: 2024-06-26 15:52:33 -0400 (Wed, 26 Jun 2024) EllapsedTime: 64.4 seconds RetCode: 0 Status: OK