Package: bgx Version: 1.70.0 Command: rm -rf bgx.buildbin-libdir && mkdir bgx.buildbin-libdir && E:\biocbuild\bbs-3.19-bioc\R\bin\R.exe CMD INSTALL --build --library=bgx.buildbin-libdir bgx_1.70.0.tar.gz StartedAt: 2024-10-17 07:23:43 -0400 (Thu, 17 Oct 2024) EndedAt: 2024-10-17 07:25:50 -0400 (Thu, 17 Oct 2024) EllapsedTime: 127.4 seconds RetCode: 0 Status: OK PackageFile: bgx_1.70.0.zip PackageFileSize: 536.5 KiB