Package: bgx Version: 1.70.0 Command: chmod a+r bgx -R && E:\biocbuild\bbs-3.19-bioc\R\bin\R.exe CMD build --keep-empty-dirs --no-resave-data bgx StartedAt: 2024-10-16 17:45:20 -0400 (Wed, 16 Oct 2024) EndedAt: 2024-10-16 17:48:22 -0400 (Wed, 16 Oct 2024) EllapsedTime: 182.1 seconds RetCode: 0 Status: OK PackageFile: bgx_1.70.0.tar.gz PackageFileSize: 4.83 MiB