Package: bigmelon Version: 1.30.0 Command: /Library/Frameworks/R.framework/Resources/bin/R CMD build --keep-empty-dirs --no-resave-data bigmelon StartedAt: 2024-10-16 20:11:29 -0400 (Wed, 16 Oct 2024) EndedAt: 2024-10-16 20:13:08 -0400 (Wed, 16 Oct 2024) EllapsedTime: 98.4 seconds RetCode: 0 Status: OK PackageFile: bigmelon_1.30.0.tar.gz PackageFileSize: 900.6 KiB