Package: bigmelon Version: 1.30.0 Command: /home/biocbuild/bbs-3.19-bioc/R/bin/R CMD build --keep-empty-dirs --no-resave-data bigmelon StartedAt: 2024-10-16 17:10:12 -0400 (Wed, 16 Oct 2024) EndedAt: 2024-10-16 17:11:27 -0400 (Wed, 16 Oct 2024) EllapsedTime: 74.1 seconds RetCode: 0 Status: OK PackageFile: bigmelon_1.30.0.tar.gz PackageFileSize: 901 KiB