Package: bigmelon Version: 1.30.0 Command: /home/biocbuild/bbs-3.19-bioc/R/bin/R CMD check --install=check:bigmelon.install-out.txt --library=/home/biocbuild/bbs-3.19-bioc/R/site-library --timings bigmelon_1.30.0.tar.gz StartedAt: 2024-10-16 22:00:01 -0400 (Wed, 16 Oct 2024) EndedAt: 2024-10-16 22:07:42 -0400 (Wed, 16 Oct 2024) EllapsedTime: 461.0 seconds RetCode: 0 Status: WARNINGS CheckDir: bigmelon.Rcheck Warnings: 3