Package: bioCancer Version: 1.32.0 Command: rm -rf bioCancer.buildbin-libdir && mkdir bioCancer.buildbin-libdir && /Users/biocbuild/BBS/utils/build-universal.sh bioCancer_1.32.0.tar.gz /Library/Frameworks/R.framework/Resources/bin/R bioCancer.buildbin-libdir StartedAt: 2024-10-18 17:29:08 -0400 (Fri, 18 Oct 2024) EndedAt: 2024-10-18 17:30:31 -0400 (Fri, 18 Oct 2024) EllapsedTime: 82.7 seconds RetCode: 0 Status: OK PackageFile: bioCancer_1.32.0.tgz PackageFileSize: 7.419 MiB