Package: bioCancer Version: 1.32.0 Command: /home/biocbuild/R/R-beta-2024-04-15_r86425/bin/R CMD check --install=check:bioCancer.install-out.txt --library=/home/biocbuild/R/R-beta-2024-04-15_r86425/site-library --no-vignettes --timings bioCancer_1.32.0.tar.gz StartedAt: 2024-05-09 05:09:38 -0000 (Thu, 09 May 2024) EndedAt: 2024-05-09 05:19:20 -0000 (Thu, 09 May 2024) EllapsedTime: 582.2 seconds RetCode: 1 Status: ERROR CheckDir: bioCancer.Rcheck Warnings: NA