Package: bioCancer Version: 1.32.0 Command: /home/biocbuild/bbs-3.19-bioc/R/bin/R CMD check --install=check:bioCancer.install-out.txt --library=/home/biocbuild/bbs-3.19-bioc/R/site-library --timings bioCancer_1.32.0.tar.gz StartedAt: 2024-10-16 22:01:18 -0400 (Wed, 16 Oct 2024) EndedAt: 2024-10-16 22:07:42 -0400 (Wed, 16 Oct 2024) EllapsedTime: 383.8 seconds RetCode: 0 Status: OK CheckDir: bioCancer.Rcheck Warnings: 0