Package: bioCancer Version: 1.32.0 Command: rm -rf bioCancer.buildbin-libdir && mkdir bioCancer.buildbin-libdir && F:\biocbuild\bbs-3.19-bioc\R\bin\R.exe CMD INSTALL --build --library=bioCancer.buildbin-libdir bioCancer_1.32.0.tar.gz StartedAt: 2024-06-27 07:53:20 -0400 (Thu, 27 Jun 2024) EndedAt: 2024-06-27 07:54:49 -0400 (Thu, 27 Jun 2024) EllapsedTime: 89.1 seconds RetCode: 0 Status: OK PackageFile: bioCancer_1.32.0.zip PackageFileSize: 7.445 MiB