Package: bioCancer Version: 1.32.0 Command: rm -rf bioCancer.buildbin-libdir && mkdir bioCancer.buildbin-libdir && E:\biocbuild\bbs-3.19-bioc\R\bin\R.exe CMD INSTALL --build --library=bioCancer.buildbin-libdir bioCancer_1.32.0.tar.gz StartedAt: 2024-10-17 07:24:05 -0400 (Thu, 17 Oct 2024) EndedAt: 2024-10-17 07:26:51 -0400 (Thu, 17 Oct 2024) EllapsedTime: 166.4 seconds RetCode: 0 Status: OK PackageFile: bioCancer_1.32.0.zip PackageFileSize: 7.446 MiB