Package: bioDist Version: 1.76.0 Command: /home/biocbuild/bbs-3.19-bioc/R/bin/R CMD check --install=check:bioDist.install-out.txt --library=/home/biocbuild/bbs-3.19-bioc/R/site-library --timings bioDist_1.76.0.tar.gz StartedAt: 2024-10-16 22:09:23 -0400 (Wed, 16 Oct 2024) EndedAt: 2024-10-16 22:10:00 -0400 (Wed, 16 Oct 2024) EllapsedTime: 36.1 seconds RetCode: 0 Status: OK CheckDir: bioDist.Rcheck Warnings: 0