Package: bioDist Version: 1.76.0 Command: F:\biocbuild\bbs-3.19-bioc\R\bin\R.exe CMD check --no-multiarch --install=check:bioDist.install-out.txt --library=F:\biocbuild\bbs-3.19-bioc\R\library --no-vignettes --timings bioDist_1.76.0.tar.gz StartedAt: 2024-06-26 23:29:18 -0400 (Wed, 26 Jun 2024) EndedAt: 2024-06-26 23:30:01 -0400 (Wed, 26 Jun 2024) EllapsedTime: 42.9 seconds RetCode: 0 Status: OK CheckDir: bioDist.Rcheck Warnings: 0