Package: biobroom Version: 1.36.0 Command: /Library/Frameworks/R.framework/Resources/bin/R CMD build --keep-empty-dirs --no-resave-data biobroom StartedAt: 2024-06-09 15:57:49 -0400 (Sun, 09 Jun 2024) EndedAt: 2024-06-09 15:58:46 -0400 (Sun, 09 Jun 2024) EllapsedTime: 56.4 seconds RetCode: 0 Status: OK PackageFile: biobroom_1.36.0.tar.gz PackageFileSize: 587.6 KiB