Package: biobroom Version: 1.36.0 Command: rm -rf biobroom.buildbin-libdir && mkdir biobroom.buildbin-libdir && F:\biocbuild\bbs-3.19-bioc\R\bin\R.exe CMD INSTALL --build --library=biobroom.buildbin-libdir biobroom_1.36.0.tar.gz StartedAt: 2024-06-27 07:53:16 -0400 (Thu, 27 Jun 2024) EndedAt: 2024-06-27 07:53:35 -0400 (Thu, 27 Jun 2024) EllapsedTime: 19.6 seconds RetCode: 0 Status: OK PackageFile: biobroom_1.36.0.zip PackageFileSize: 606.3 KiB