Package: biobtreeR Version: 1.16.0 Command: /home/biocbuild/R/R-beta-2024-04-15_r86425/bin/R CMD build --keep-empty-dirs --no-resave-data biobtreeR StartedAt: 2024-05-08 22:42:48 -0000 (Wed, 08 May 2024) EndedAt: 2024-05-08 22:43:39 -0000 (Wed, 08 May 2024) EllapsedTime: 51.1 seconds RetCode: 1 Status: ERROR PackageFile: None PackageFileSize: NA