Package: biobtreeR Version: 1.16.0 Command: /Library/Frameworks/R.framework/Resources/bin/R CMD build --keep-empty-dirs --no-resave-data biobtreeR StartedAt: 2024-06-09 15:57:51 -0400 (Sun, 09 Jun 2024) EndedAt: 2024-06-09 15:58:58 -0400 (Sun, 09 Jun 2024) EllapsedTime: 66.6 seconds RetCode: 0 Status: OK PackageFile: biobtreeR_1.16.0.tar.gz PackageFileSize: 938.2 KiB