Package: biobtreeR Version: 1.16.0 Command: rm -rf biobtreeR.buildbin-libdir && mkdir biobtreeR.buildbin-libdir && /Users/biocbuild/BBS/utils/build-universal.sh biobtreeR_1.16.0.tar.gz /Library/Frameworks/R.framework/Resources/bin/R biobtreeR.buildbin-libdir StartedAt: 2024-10-17 15:42:34 -0400 (Thu, 17 Oct 2024) EndedAt: 2024-10-17 15:42:43 -0400 (Thu, 17 Oct 2024) EllapsedTime: 8.8 seconds RetCode: 0 Status: OK PackageFile: biobtreeR_1.16.0.tgz PackageFileSize: 978.8 KiB