Package: biobtreeR Version: 1.16.0 Command: /home/biocbuild/bbs-3.19-bioc/R/bin/R CMD build --keep-empty-dirs --no-resave-data biobtreeR StartedAt: 2024-10-16 17:10:50 -0400 (Wed, 16 Oct 2024) EndedAt: 2024-10-16 17:26:32 -0400 (Wed, 16 Oct 2024) EllapsedTime: 941.5 seconds RetCode: 0 Status: OK PackageFile: biobtreeR_1.16.0.tar.gz PackageFileSize: 938.3 KiB