Package: biobtreeR Version: 1.16.0 Command: rm -rf biobtreeR.buildbin-libdir && mkdir biobtreeR.buildbin-libdir && F:\biocbuild\bbs-3.19-bioc\R\bin\R.exe CMD INSTALL --build --library=biobtreeR.buildbin-libdir biobtreeR_1.16.0.tar.gz StartedAt: 2024-06-27 07:53:18 -0400 (Thu, 27 Jun 2024) EndedAt: 2024-06-27 07:53:29 -0400 (Thu, 27 Jun 2024) EllapsedTime: 11.4 seconds RetCode: 0 Status: OK PackageFile: biobtreeR_1.16.0.zip PackageFileSize: 985.4 KiB