Package: biobtreeR Version: 1.16.0 Command: chmod a+r biobtreeR -R && F:\biocbuild\bbs-3.19-bioc\R\bin\R.exe CMD build --keep-empty-dirs --no-resave-data biobtreeR StartedAt: 2024-06-26 17:22:43 -0400 (Wed, 26 Jun 2024) EndedAt: 2024-06-26 17:23:57 -0400 (Wed, 26 Jun 2024) EllapsedTime: 74.6 seconds RetCode: 0 Status: OK PackageFile: biobtreeR_1.16.0.tar.gz PackageFileSize: 938.4 KiB