Package: biobtreeR Version: 1.16.0 Command: F:\biocbuild\bbs-3.19-bioc\R\bin\R.exe CMD INSTALL biobtreeR StartedAt: 2024-06-26 15:46:26 -0400 (Wed, 26 Jun 2024) EndedAt: 2024-06-26 15:46:43 -0400 (Wed, 26 Jun 2024) EllapsedTime: 16.9 seconds RetCode: 0 Status: OK