Package: biobtreeR Version: 1.16.0 Command: chmod a+r biobtreeR -R && E:\biocbuild\bbs-3.19-bioc\R\bin\R.exe CMD build --keep-empty-dirs --no-resave-data biobtreeR StartedAt: 2024-10-16 17:48:23 -0400 (Wed, 16 Oct 2024) EndedAt: 2024-10-16 17:49:29 -0400 (Wed, 16 Oct 2024) EllapsedTime: 66.5 seconds RetCode: 0 Status: OK PackageFile: biobtreeR_1.16.0.tar.gz PackageFileSize: 938.4 KiB