Package: biobtreeR Version: 1.16.0 Command: E:\biocbuild\bbs-3.19-bioc\R\bin\R.exe CMD check --no-multiarch --install=check:biobtreeR.install-out.txt --library=E:\biocbuild\bbs-3.19-bioc\R\library --no-vignettes --timings biobtreeR_1.16.0.tar.gz StartedAt: 2024-10-16 23:12:33 -0400 (Wed, 16 Oct 2024) EndedAt: 2024-10-16 23:13:19 -0400 (Wed, 16 Oct 2024) EllapsedTime: 46.1 seconds RetCode: 0 Status: OK CheckDir: biobtreeR.Rcheck Warnings: 0