Package: biodbChebi Version: 1.10.0 Command: /home/biocbuild/R/R-beta-2024-04-15_r86425/bin/R CMD build --keep-empty-dirs --no-resave-data biodbChebi StartedAt: 2024-05-08 22:46:20 -0000 (Wed, 08 May 2024) EndedAt: 2024-05-08 22:46:35 -0000 (Wed, 08 May 2024) EllapsedTime: 15.0 seconds RetCode: 1 Status: ERROR PackageFile: None PackageFileSize: NA