Package: biodbChebi Version: 1.10.0 Command: /home/biocbuild/R/R-beta-2024-04-15_r86425/bin/R CMD check --install=check:biodbChebi.install-out.txt --library=/home/biocbuild/R/R-beta-2024-04-15_r86425/site-library --no-vignettes --timings biodbChebi_1.10.0.tar.gz StartedAt: 2024-05-04 05:23:06 -0000 (Sat, 04 May 2024) EndedAt: 2024-05-04 05:38:54 -0000 (Sat, 04 May 2024) EllapsedTime: 948.5 seconds RetCode: 1 Status: ERROR CheckDir: biodbChebi.Rcheck Warnings: NA