Package: biodbChebi Version: 1.10.0 Command: /Library/Frameworks/R.framework/Resources/bin/R CMD build --keep-empty-dirs --no-resave-data biodbChebi StartedAt: 2024-06-09 15:59:35 -0400 (Sun, 09 Jun 2024) EndedAt: 2024-06-09 16:00:17 -0400 (Sun, 09 Jun 2024) EllapsedTime: 41.4 seconds RetCode: 0 Status: OK PackageFile: biodbChebi_1.10.0.tar.gz PackageFileSize: 312.1 KiB