Package: biodbChebi Version: 1.10.0 Command: rm -rf biodbChebi.buildbin-libdir && mkdir biodbChebi.buildbin-libdir && /Users/biocbuild/BBS/utils/build-universal.sh biodbChebi_1.10.0.tar.gz /Library/Frameworks/R.framework/Resources/bin/R biodbChebi.buildbin-libdir StartedAt: 2024-10-17 15:43:19 -0400 (Thu, 17 Oct 2024) EndedAt: 2024-10-17 15:43:39 -0400 (Thu, 17 Oct 2024) EllapsedTime: 20.4 seconds RetCode: 0 Status: OK PackageFile: biodbChebi_1.10.0.tgz PackageFileSize: 399 KiB