Package: biodbKegg Version: 1.10.2 Command: rm -rf biodbKegg.buildbin-libdir && mkdir biodbKegg.buildbin-libdir && /Users/biocbuild/BBS/utils/build-universal.sh biodbKegg_1.10.2.tar.gz /Library/Frameworks/R.framework/Resources/bin/R biodbKegg.buildbin-libdir StartedAt: 2024-10-17 15:43:27 -0400 (Thu, 17 Oct 2024) EndedAt: 2024-10-17 15:44:11 -0400 (Thu, 17 Oct 2024) EllapsedTime: 44.9 seconds RetCode: 0 Status: OK PackageFile: biodbKegg_1.10.2.tgz PackageFileSize: 1.285 MiB