Package: biodbKegg Version: 1.10.2 Command: /home/biocbuild/bbs-3.19-bioc/R/bin/R CMD build --keep-empty-dirs --no-resave-data biodbKegg StartedAt: 2024-10-16 17:15:42 -0400 (Wed, 16 Oct 2024) EndedAt: 2024-10-16 17:16:07 -0400 (Wed, 16 Oct 2024) EllapsedTime: 25.0 seconds RetCode: 0 Status: OK PackageFile: biodbKegg_1.10.2.tar.gz PackageFileSize: 615.9 KiB