Package: biodbKegg Version: 1.10.2 Command: /home/biocbuild/bbs-3.19-bioc/R/bin/R CMD check --install=check:biodbKegg.install-out.txt --library=/home/biocbuild/bbs-3.19-bioc/R/site-library --timings biodbKegg_1.10.2.tar.gz StartedAt: 2024-10-16 22:08:35 -0400 (Wed, 16 Oct 2024) EndedAt: 2024-10-16 22:23:47 -0400 (Wed, 16 Oct 2024) EllapsedTime: 912.0 seconds RetCode: 0 Status: OK CheckDir: biodbKegg.Rcheck Warnings: 0