Package: biodbKegg Version: 1.10.0 Command: chmod a+r biodbKegg -R && F:\biocbuild\bbs-3.19-bioc\R\bin\R.exe CMD build --keep-empty-dirs --no-resave-data biodbKegg StartedAt: 2024-06-26 17:26:06 -0400 (Wed, 26 Jun 2024) EndedAt: 2024-06-26 17:30:27 -0400 (Wed, 26 Jun 2024) EllapsedTime: 260.3 seconds RetCode: 0 Status: OK PackageFile: biodbKegg_1.10.0.tar.gz PackageFileSize: 569.1 KiB