Package: biodbKegg Version: 1.10.2 Command: rm -rf biodbKegg.buildbin-libdir && mkdir biodbKegg.buildbin-libdir && E:\biocbuild\bbs-3.19-bioc\R\bin\R.exe CMD INSTALL --build --library=biodbKegg.buildbin-libdir biodbKegg_1.10.2.tar.gz StartedAt: 2024-10-17 07:25:27 -0400 (Thu, 17 Oct 2024) EndedAt: 2024-10-17 07:26:07 -0400 (Thu, 17 Oct 2024) EllapsedTime: 40.0 seconds RetCode: 0 Status: OK PackageFile: biodbKegg_1.10.2.zip PackageFileSize: 1.252 MiB