Package: biodbKegg Version: 1.10.2 Command: E:\biocbuild\bbs-3.19-bioc\R\bin\R.exe CMD check --no-multiarch --install=check:biodbKegg.install-out.txt --library=E:\biocbuild\bbs-3.19-bioc\R\library --no-vignettes --timings biodbKegg_1.10.2.tar.gz StartedAt: 2024-10-16 23:17:56 -0400 (Wed, 16 Oct 2024) EndedAt: 2024-10-16 23:23:47 -0400 (Wed, 16 Oct 2024) EllapsedTime: 350.5 seconds RetCode: 0 Status: OK CheckDir: biodbKegg.Rcheck Warnings: 0