Package: biodbNci Version: 1.8.0 Command: /Library/Frameworks/R.framework/Resources/bin/R CMD check --install=check:biodbNci.install-out.txt --library=/Library/Frameworks/R.framework/Resources/library --no-vignettes --timings biodbNci_1.8.0.tar.gz StartedAt: 2024-06-10 08:54:08 -0400 (Mon, 10 Jun 2024) EndedAt: 2024-06-10 08:55:35 -0400 (Mon, 10 Jun 2024) EllapsedTime: 87.1 seconds RetCode: 0 Status: OK CheckDir: biodbNci.Rcheck Warnings: 0