Package: biodbNci Version: 1.7.0 Command: /home/biocbuild/R/R-4.4-devel-2023.11.02/bin/R CMD check --install=check:biodbNci.install-out.txt --library=/home/biocbuild/R/R-4.4-devel-2023.11.02/site-library --no-vignettes --timings biodbNci_1.7.0.tar.gz StartedAt: 2023-11-21 03:01:25 -0000 (Tue, 21 Nov 2023) EndedAt: 2023-11-21 03:03:13 -0000 (Tue, 21 Nov 2023) EllapsedTime: 108.2 seconds RetCode: 0 Status: OK CheckDir: biodbNci.Rcheck Warnings: 0