Package: biodbNci Version: 1.8.0 Command: chmod a+r biodbNci -R && F:\biocbuild\bbs-3.19-bioc\R\bin\R.exe CMD build --keep-empty-dirs --no-resave-data biodbNci StartedAt: 2024-06-26 17:26:31 -0400 (Wed, 26 Jun 2024) EndedAt: 2024-06-26 17:27:57 -0400 (Wed, 26 Jun 2024) EllapsedTime: 85.4 seconds RetCode: 0 Status: OK PackageFile: biodbNci_1.8.0.tar.gz PackageFileSize: 312.2 KiB