Package: biodbNci Version: 1.8.0 Command: F:\biocbuild\bbs-3.19-bioc\R\bin\R.exe CMD check --no-multiarch --install=check:biodbNci.install-out.txt --library=F:\biocbuild\bbs-3.19-bioc\R\library --no-vignettes --timings biodbNci_1.8.0.tar.gz StartedAt: 2024-06-26 23:28:18 -0400 (Wed, 26 Jun 2024) EndedAt: 2024-06-26 23:31:18 -0400 (Wed, 26 Jun 2024) EllapsedTime: 180.3 seconds RetCode: 0 Status: OK CheckDir: biodbNci.Rcheck Warnings: 0