Package: biodbNci Version: 1.8.0 Command: F:\biocbuild\bbs-3.19-bioc\R\bin\R.exe CMD INSTALL biodbNci StartedAt: 2024-06-26 16:28:51 -0400 (Wed, 26 Jun 2024) EndedAt: 2024-06-26 16:29:40 -0400 (Wed, 26 Jun 2024) EllapsedTime: 49.6 seconds RetCode: 0 Status: OK