Package: biodbUniprot Version: 1.10.0 Command: /home/biocbuild/R/R-beta-2024-04-15_r86425/bin/R CMD check --install=check:biodbUniprot.install-out.txt --library=/home/biocbuild/R/R-beta-2024-04-15_r86425/site-library --no-vignettes --timings biodbUniprot_1.10.0.tar.gz StartedAt: 2024-05-09 05:18:54 -0000 (Thu, 09 May 2024) EndedAt: 2024-05-09 05:22:27 -0000 (Thu, 09 May 2024) EllapsedTime: 212.6 seconds RetCode: 0 Status: OK CheckDir: biodbUniprot.Rcheck Warnings: 0