Package: biomvRCNS Version: 1.44.0 Maintainer: Yang Du MaintainerEmail: tooyoung at gmail.com git_url: https://git.bioconductor.org/packages/biomvRCNS git_branch: RELEASE_3_19 git_last_commit: 2a6c78b git_last_commit_date: 2024-04-30 11:53:14 -0400 (Tue, 30 Apr 2024)